BEGIN:VCALENDAR
VERSION:2.0
PRODID:-//Eventin//Event Calendar//EN
CALSCALE:GREGORIAN
METHOD:PUBLISH
BEGIN:VEVENT
UID:8228ba92ff9fda8a132e76e1b73e8a87@carebridge.ca
SUMMARY:Exercise Program – Session 3 Begins
DESCRIPTION:Exercise session runs from February 23rd to May 8th with holida
 ys on Good Friday (April 3rd) and Easter Monday (April 6th). 
LOCATION:Almonte
DTSTAMP:20260422T161731Z
DTSTART:20260223T130000Z
DTEND:20260508T210000Z
END:VEVENT
END:VCALENDAR
