BEGIN:VCALENDAR
VERSION:2.0
PRODID:-//Eventin//Event Calendar//EN
CALSCALE:GREGORIAN
METHOD:PUBLISH
BEGIN:VEVENT
UID:02cdb4df34c7cec2ab28cc732f0e5e75@carebridge.ca
SUMMARY:Zumba Gold
DESCRIPTION:Zumba is a high energy workout that's a fun and effective way t
 o stay fit! Set to upbeat Latin and international music\, this class combin
 es cardio\, strength\, endurance\, and flexibility training. It's great for
  all fitness levels and will get you moving sweating\, and smiling. No danc
 e experience needed!\nWednesdays from 1-2pm
LOCATION:Stan Mills Lounge - 375 Country Street\, Almonte
DTSTAMP:20260422T132342Z
DTSTART:20260519T040000Z
DTEND:20260626T040000Z
END:VEVENT
END:VCALENDAR
